BEGIN:VCALENDAR
VERSION:2.0
PRODID:-//Acme Widgets\, Inc.//NONSGML ExportToCalendar//EN
CALSCALE:GREGORIAN
BEGIN:VEVENT
DTSTAMP:20260423T120344Z
UID:e80ae3ba-0949-4fc7-82fc-89800b044db2
DTSTART:20260425T100000
DTEND:20260425T102000
DESCRIPTION:Inspection for 34 Dooen Rd\, HORSHAM VIC 3400
LOCATION:34 Dooen Rd\, HORSHAM VIC 3400
SUMMARY:34 Dooen Rd\, HORSHAM VIC 3400
END:VEVENT
END:VCALENDAR
