BEGIN:VCALENDAR
VERSION:2.0
PRODID:-//Acme Widgets\, Inc.//NONSGML ExportToCalendar//EN
CALSCALE:GREGORIAN
BEGIN:VEVENT
DTSTAMP:20260423T121031Z
UID:dd0b1ae7-5e60-406e-bb66-8a93628a4edf
DTSTART:20260425T111000
DTEND:20260425T113000
DESCRIPTION:Inspection for 16 Simpson Avenue\, RUPANYUP VIC 3388
LOCATION:16 Simpson Avenue\, RUPANYUP VIC 3388
SUMMARY:16 Simpson Avenue\, RUPANYUP VIC 3388
END:VEVENT
END:VCALENDAR
