BEGIN:VCALENDAR
VERSION:2.0
PRODID:-//Acme Widgets\, Inc.//NONSGML ExportToCalendar//EN
CALSCALE:GREGORIAN
BEGIN:VEVENT
DTSTAMP:20260423T120516Z
UID:93e7bd1c-9d94-4e2e-aea1-808861310b6a
DTSTART:20260425T100000
DTEND:20260425T102000
DESCRIPTION:Inspection for 6 Young Street\, HORSHAM VIC 3400
LOCATION:6 Young Street\, HORSHAM VIC 3400
SUMMARY:6 Young Street\, HORSHAM VIC 3400
END:VEVENT
END:VCALENDAR
